Package: pvac Version: 1.57.0 Command: /home/biocbuild/bbs-3.22-bioc/R/bin/R CMD INSTALL pvac StartedAt: 2025-10-23 15:13:03 -0400 (Thu, 23 Oct 2025) EndedAt: 2025-10-23 15:13:07 -0400 (Thu, 23 Oct 2025) EllapsedTime: 3.8 seconds RetCode: 0 Status: OK