Package: pvac Version: 1.57.0 Command: /home/biocbuild/bbs-3.22-bioc/R/bin/R CMD build --keep-empty-dirs --no-resave-data --md5 pvac StartedAt: 2025-10-22 19:27:02 -0400 (Wed, 22 Oct 2025) EndedAt: 2025-10-22 19:27:43 -0400 (Wed, 22 Oct 2025) EllapsedTime: 41.0 seconds RetCode: 0 Status: OK PackageFile: pvac_1.57.0.tar.gz PackageFileSize: 258.9 KiB