Package: puma Version: 3.53.0 Command: /home/biocbuild/bbs-3.23-bioc/R/bin/R CMD INSTALL puma StartedAt: 2025-11-21 15:22:43 -0500 (Fri, 21 Nov 2025) EndedAt: 2025-11-21 15:23:24 -0500 (Fri, 21 Nov 2025) EllapsedTime: 41.7 seconds RetCode: 0 Status: OK