Package: puma Version: 3.53.0 Command: /Library/Frameworks/R.framework/Resources/bin/R CMD INSTALL puma StartedAt: 2025-11-21 15:27:26 -0500 (Fri, 21 Nov 2025) EndedAt: 2025-11-21 15:28:27 -0500 (Fri, 21 Nov 2025) EllapsedTime: 60.7 seconds RetCode: 0 Status: OK