Package: puma Version: 3.53.0 Command: rm -rf puma.buildbin-libdir && mkdir puma.buildbin-libdir && /Users/biocbuild/BBS/utils/build-universal.sh puma_3.53.0.tar.gz /Library/Frameworks/R.framework/Resources/bin/R puma.buildbin-libdir StartedAt: 2025-11-22 01:50:51 -0500 (Sat, 22 Nov 2025) EndedAt: 2025-11-22 01:51:59 -0500 (Sat, 22 Nov 2025) EllapsedTime: 68.1 seconds RetCode: 0 Status: OK PackageFile: puma_3.53.0.tgz PackageFileSize: 4.112 MiB