Package: puma Version: 3.51.0 Command: /Library/Frameworks/R.framework/Resources/bin/R CMD INSTALL puma StartedAt: 2025-10-28 15:13:51 -0400 (Tue, 28 Oct 2025) EndedAt: 2025-10-28 15:14:08 -0400 (Tue, 28 Oct 2025) EllapsedTime: 16.7 seconds RetCode: 0 Status: OK