Package: ptairMS Version: 1.17.0 Command: /home/biocbuild/bbs-3.22-bioc/R/bin/R CMD INSTALL ptairMS StartedAt: 2025-09-29 15:44:14 -0400 (Mon, 29 Sep 2025) EndedAt: 2025-09-29 15:44:39 -0400 (Mon, 29 Sep 2025) EllapsedTime: 25.0 seconds RetCode: 0 Status: OK