Package: ptairMS Version: 1.19.0 Command: /Library/Frameworks/R.framework/Resources/bin/R CMD INSTALL ptairMS StartedAt: 2025-11-21 15:20:07 -0500 (Fri, 21 Nov 2025) EndedAt: 2025-11-21 15:20:14 -0500 (Fri, 21 Nov 2025) EllapsedTime: 7.3 seconds RetCode: 0 Status: OK