Package: ptairMS Version: 1.19.0 Command: /Library/Frameworks/R.framework/Resources/bin/R CMD build --keep-empty-dirs --no-resave-data ptairMS StartedAt: 2025-11-21 17:19:56 -0500 (Fri, 21 Nov 2025) EndedAt: 2025-11-21 17:21:06 -0500 (Fri, 21 Nov 2025) EllapsedTime: 70.9 seconds RetCode: 0 Status: OK PackageFile: ptairMS_1.19.0.tar.gz PackageFileSize: 3.356 MiB