Package: ptairMS Version: 1.19.0 Command: rm -rf ptairMS.buildbin-libdir && mkdir ptairMS.buildbin-libdir && /Users/biocbuild/BBS/utils/build-universal.sh ptairMS_1.19.0.tar.gz /Library/Frameworks/R.framework/Resources/bin/R ptairMS.buildbin-libdir StartedAt: 2025-11-21 23:45:55 -0500 (Fri, 21 Nov 2025) EndedAt: 2025-11-21 23:46:05 -0500 (Fri, 21 Nov 2025) EllapsedTime: 10.2 seconds RetCode: 0 Status: OK PackageFile: ptairMS_1.19.0.tgz PackageFileSize: 3.435 MiB