Package: psichomics Version: 1.37.0 Command: /home/biocbuild/bbs-3.23-bioc/R/bin/R CMD INSTALL psichomics StartedAt: 2025-11-20 16:00:12 -0500 (Thu, 20 Nov 2025) EndedAt: 2025-11-20 16:01:28 -0500 (Thu, 20 Nov 2025) EllapsedTime: 75.9 seconds RetCode: 0 Status: OK