Package: psichomics Version: 1.37.0 Command: /home/biocbuild/bbs-3.23-bioc/R/bin/R CMD build --keep-empty-dirs --no-resave-data psichomics StartedAt: 2025-11-20 19:23:54 -0500 (Thu, 20 Nov 2025) EndedAt: 2025-11-20 19:25:48 -0500 (Thu, 20 Nov 2025) EllapsedTime: 114.1 seconds RetCode: 0 Status: OK PackageFile: psichomics_1.37.0.tar.gz PackageFileSize: 6.113 MiB