Package: psichomics Version: 1.37.0 Command: /Library/Frameworks/R.framework/Resources/bin/R CMD build --keep-empty-dirs --no-resave-data psichomics StartedAt: 2025-11-20 18:16:27 -0500 (Thu, 20 Nov 2025) EndedAt: 2025-11-20 18:18:37 -0500 (Thu, 20 Nov 2025) EllapsedTime: 130.3 seconds RetCode: 0 Status: OK PackageFile: psichomics_1.37.0.tar.gz PackageFileSize: 6.114 MiB