Package: psichomics Version: 1.35.0 Command: /Library/Frameworks/R.framework/Resources/bin/R CMD INSTALL psichomics StartedAt: 2025-10-15 15:31:38 -0400 (Wed, 15 Oct 2025) EndedAt: 2025-10-15 15:32:08 -0400 (Wed, 15 Oct 2025) EllapsedTime: 29.3 seconds RetCode: 0 Status: OK