Package: psichomics Version: 1.35.0 Command: rm -rf psichomics.buildbin-libdir && mkdir psichomics.buildbin-libdir && /Users/biocbuild/BBS/utils/build-universal.sh psichomics_1.35.0.tar.gz /Library/Frameworks/R.framework/Resources/bin/R psichomics.buildbin-libdir StartedAt: 2025-10-15 22:57:42 -0400 (Wed, 15 Oct 2025) EndedAt: 2025-10-15 22:58:14 -0400 (Wed, 15 Oct 2025) EllapsedTime: 31.7 seconds RetCode: 0 Status: OK PackageFile: psichomics_1.35.0.tgz PackageFileSize: 4.722 MiB