Package: proteinProfiles Version: 1.51.0 Command: /home/biocbuild/bbs-3.23-bioc/R/bin/R CMD INSTALL proteinProfiles StartedAt: 2025-11-23 15:11:38 -0500 (Sun, 23 Nov 2025) EndedAt: 2025-11-23 15:11:54 -0500 (Sun, 23 Nov 2025) EllapsedTime: 15.7 seconds RetCode: 0 Status: OK