Package: proteinProfiles Version: 1.51.0 Command: /home/biocbuild/bbs-3.23-bioc/R/bin/R CMD build --keep-empty-dirs --no-resave-data proteinProfiles StartedAt: 2025-11-23 19:23:40 -0500 (Sun, 23 Nov 2025) EndedAt: 2025-11-23 19:23:51 -0500 (Sun, 23 Nov 2025) EllapsedTime: 11.0 seconds RetCode: 0 Status: OK PackageFile: proteinProfiles_1.51.0.tar.gz PackageFileSize: 384.3 KiB