Package: proteinProfiles Version: 1.51.0 Command: /Library/Frameworks/R.framework/Resources/bin/R CMD INSTALL proteinProfiles StartedAt: 2025-11-24 15:06:02 -0500 (Mon, 24 Nov 2025) EndedAt: 2025-11-24 15:06:09 -0500 (Mon, 24 Nov 2025) EllapsedTime: 6.3 seconds RetCode: 0 Status: OK