Package: proteinProfiles Version: 1.51.0 Command: /Library/Frameworks/R.framework/Resources/bin/R CMD build --keep-empty-dirs --no-resave-data proteinProfiles StartedAt: 2025-11-24 17:27:59 -0500 (Mon, 24 Nov 2025) EndedAt: 2025-11-24 17:28:06 -0500 (Mon, 24 Nov 2025) EllapsedTime: 7.1 seconds RetCode: 0 Status: OK PackageFile: proteinProfiles_1.51.0.tar.gz PackageFileSize: 385 KiB