Package: proteinProfiles Version: 1.51.0 Command: rm -rf proteinProfiles.buildbin-libdir && mkdir proteinProfiles.buildbin-libdir && /Users/biocbuild/BBS/utils/build-universal.sh proteinProfiles_1.51.0.tar.gz /Library/Frameworks/R.framework/Resources/bin/R proteinProfiles.buildbin-libdir StartedAt: 2025-11-24 23:54:28 -0500 (Mon, 24 Nov 2025) EndedAt: 2025-11-24 23:54:30 -0500 (Mon, 24 Nov 2025) EllapsedTime: 2.0 seconds RetCode: 0 Status: OK PackageFile: proteinProfiles_1.51.0.tgz PackageFileSize: 404.1 KiB