Package: protGear Version: 1.13.0 Command: /home/biocbuild/R/R/bin/R CMD build --keep-empty-dirs --no-resave-data protGear StartedAt: 2025-10-21 02:11:20 -0000 (Tue, 21 Oct 2025) EndedAt: 2025-10-21 02:12:57 -0000 (Tue, 21 Oct 2025) EllapsedTime: 97.0 seconds RetCode: 0 Status: OK PackageFile: protGear_1.13.0.tar.gz PackageFileSize: 3.152 MiB