Package: protGear Version: 1.15.0 Command: /home/biocbuild/bbs-3.23-bioc/R/bin/R CMD INSTALL protGear StartedAt: 2025-11-04 15:27:16 -0500 (Tue, 04 Nov 2025) EndedAt: 2025-11-04 15:27:40 -0500 (Tue, 04 Nov 2025) EllapsedTime: 24.8 seconds RetCode: 0 Status: OK