Package: protGear Version: 1.15.0 Command: /home/biocbuild/bbs-3.23-bioc/R/bin/R CMD build --keep-empty-dirs --no-resave-data protGear StartedAt: 2025-11-04 19:18:34 -0500 (Tue, 04 Nov 2025) EndedAt: 2025-11-04 19:19:38 -0500 (Tue, 04 Nov 2025) EllapsedTime: 64.0 seconds RetCode: 0 Status: OK PackageFile: protGear_1.15.0.tar.gz PackageFileSize: 4.746 MiB