Package: protGear Version: 1.13.0 Command: /Library/Frameworks/R.framework/Resources/bin/R CMD INSTALL protGear StartedAt: 2025-10-10 15:30:42 -0400 (Fri, 10 Oct 2025) EndedAt: 2025-10-10 15:31:18 -0400 (Fri, 10 Oct 2025) EllapsedTime: 35.7 seconds RetCode: 0 Status: OK