Package: protGear Version: 1.13.0 Command: /Library/Frameworks/R.framework/Resources/bin/R CMD build --keep-empty-dirs --no-resave-data protGear StartedAt: 2025-10-10 18:45:15 -0400 (Fri, 10 Oct 2025) EndedAt: 2025-10-10 18:46:41 -0400 (Fri, 10 Oct 2025) EllapsedTime: 87.0 seconds RetCode: 0 Status: OK PackageFile: protGear_1.13.0.tar.gz PackageFileSize: 5.051 MiB