Package: protGear Version: 1.13.0 Command: rm -rf protGear.buildbin-libdir && mkdir protGear.buildbin-libdir && /Users/biocbuild/BBS/utils/build-universal.sh protGear_1.13.0.tar.gz /Library/Frameworks/R.framework/Resources/bin/R protGear.buildbin-libdir StartedAt: 2025-10-11 02:46:33 -0400 (Sat, 11 Oct 2025) EndedAt: 2025-10-11 02:47:14 -0400 (Sat, 11 Oct 2025) EllapsedTime: 40.6 seconds RetCode: 0 Status: OK PackageFile: protGear_1.13.0.tgz PackageFileSize: 3.95 MiB