Package: projectR Version: 1.25.0 Command: rm -rf projectR.buildbin-libdir && mkdir projectR.buildbin-libdir && F:\biocbuild\bbs-3.22-bioc\R\bin\R.exe CMD INSTALL --build --library=projectR.buildbin-libdir projectR_1.25.0.tar.gz StartedAt: 2025-08-15 11:00:05 -0400 (Fri, 15 Aug 2025) EndedAt: 2025-08-15 11:01:02 -0400 (Fri, 15 Aug 2025) EllapsedTime: 57.0 seconds RetCode: 0 Status: OK PackageFile: projectR_1.25.0.zip PackageFileSize: 6.616 MiB