Package: projectR Version: 1.27.0 Command: /home/biocbuild/bbs-3.23-bioc/R/bin/R CMD INSTALL projectR StartedAt: 2025-10-31 15:28:54 -0400 (Fri, 31 Oct 2025) EndedAt: 2025-10-31 15:29:27 -0400 (Fri, 31 Oct 2025) EllapsedTime: 32.4 seconds RetCode: 0 Status: OK