Package: projectR Version: 1.27.0 Command: /home/biocbuild/bbs-3.23-bioc/R/bin/R CMD check --install=check:projectR.install-out.txt --library=/home/biocbuild/bbs-3.23-bioc/R/site-library --timings projectR_1.27.0.tar.gz StartedAt: 2025-11-01 02:28:27 -0400 (Sat, 01 Nov 2025) EndedAt: 2025-11-01 02:34:04 -0400 (Sat, 01 Nov 2025) EllapsedTime: 337.5 seconds RetCode: 0 Status: OK CheckDir: projectR.Rcheck Warnings: 0