Package: progeny Version: 1.31.0 Command: /home/biocbuild/bbs-3.22-bioc/R/bin/R CMD INSTALL progeny StartedAt: 2025-10-06 15:12:07 -0400 (Mon, 06 Oct 2025) EndedAt: 2025-10-06 15:12:15 -0400 (Mon, 06 Oct 2025) EllapsedTime: 8.7 seconds RetCode: 0 Status: OK