Package: progeny Version: 1.33.0 Command: /Library/Frameworks/R.framework/Resources/bin/R CMD INSTALL progeny StartedAt: 2025-11-23 15:07:18 -0500 (Sun, 23 Nov 2025) EndedAt: 2025-11-23 15:07:23 -0500 (Sun, 23 Nov 2025) EllapsedTime: 5.0 seconds RetCode: 0 Status: OK