Package: progeny Version: 1.33.0 Command: /Library/Frameworks/R.framework/Resources/bin/R CMD build --keep-empty-dirs --no-resave-data progeny StartedAt: 2025-11-23 17:20:48 -0500 (Sun, 23 Nov 2025) EndedAt: 2025-11-23 17:20:56 -0500 (Sun, 23 Nov 2025) EllapsedTime: 8.1 seconds RetCode: 0 Status: OK PackageFile: progeny_1.33.0.tar.gz PackageFileSize: 10.15 MiB