Package: profileplyr Version: 1.27.1 Command: /home/biocbuild/bbs-3.23-bioc/R/bin/R CMD INSTALL profileplyr StartedAt: 2025-11-20 15:59:52 -0500 (Thu, 20 Nov 2025) EndedAt: 2025-11-20 16:00:07 -0500 (Thu, 20 Nov 2025) EllapsedTime: 15.2 seconds RetCode: 1 Status: ERROR