Package: profileplyr Version: 1.27.1 Command: /home/biocbuild/bbs-3.23-bioc/R/bin/R CMD build --keep-empty-dirs --no-resave-data profileplyr StartedAt: 2025-11-20 19:22:25 -0500 (Thu, 20 Nov 2025) EndedAt: 2025-11-20 19:22:41 -0500 (Thu, 20 Nov 2025) EllapsedTime: 16.0 seconds RetCode: 1 Status: ERROR PackageFile: None PackageFileSize: NA