############################################################################## ############################################################################## ### ### Running command: ### ### /home/biocbuild/bbs-3.23-bioc/R/bin/R CMD build --keep-empty-dirs --no-resave-data profileplyr ### ############################################################################## ############################################################################## * checking for file ‘profileplyr/DESCRIPTION’ ... OK * preparing ‘profileplyr’: * checking DESCRIPTION meta-information ... OK * installing the package (it is needed to build vignettes) ----------------------------------- * installing *source* package ‘profileplyr’ ... ** this is package ‘profileplyr’ version ‘1.27.1’ ** using staged installation ** R ** data ** inst ** byte-compile and prepare package for lazy loading Error: object ‘makeTxDbFromGFF’ is not exported by 'namespace:GenomicFeatures' Execution halted ERROR: lazy loading failed for package ‘profileplyr’ * removing ‘/tmp/RtmpJoT0dG/Rinst25f098ecdbb00/profileplyr’ ----------------------------------- ERROR: package installation failed