Package: profileplyr Version: 1.25.1 Command: /Library/Frameworks/R.framework/Resources/bin/R CMD build --keep-empty-dirs --no-resave-data profileplyr StartedAt: 2025-10-21 19:05:28 -0400 (Tue, 21 Oct 2025) EndedAt: 2025-10-21 19:08:29 -0400 (Tue, 21 Oct 2025) EllapsedTime: 180.7 seconds RetCode: 0 Status: OK PackageFile: profileplyr_1.25.1.tar.gz PackageFileSize: 2.49 MiB