Package: profileplyr Version: 1.25.1 Command: /Library/Frameworks/R.framework/Resources/bin/R CMD INSTALL profileplyr StartedAt: 2025-10-06 15:31:46 -0400 (Mon, 06 Oct 2025) EndedAt: 2025-10-06 15:32:09 -0400 (Mon, 06 Oct 2025) EllapsedTime: 22.5 seconds RetCode: 0 Status: OK