Package: profileplyr Version: 1.25.1 Command: rm -rf profileplyr.buildbin-libdir && mkdir profileplyr.buildbin-libdir && /Users/biocbuild/BBS/utils/build-universal.sh profileplyr_1.25.1.tar.gz /Library/Frameworks/R.framework/Resources/bin/R profileplyr.buildbin-libdir StartedAt: 2025-10-06 22:55:31 -0400 (Mon, 06 Oct 2025) EndedAt: 2025-10-06 22:55:56 -0400 (Mon, 06 Oct 2025) EllapsedTime: 24.6 seconds RetCode: 0 Status: OK PackageFile: profileplyr_1.25.1.tgz PackageFileSize: 2.552 MiB