Package: profileScoreDist Version: 1.37.0 Command: /home/biocbuild/R/R/bin/R CMD INSTALL profileScoreDist StartedAt: 2025-10-02 20:31:39 -0000 (Thu, 02 Oct 2025) EndedAt: 2025-10-02 20:31:54 -0000 (Thu, 02 Oct 2025) EllapsedTime: 14.8 seconds RetCode: 0 Status: OK