Package: profileScoreDist Version: 1.37.0 Command: /home/biocbuild/R/R/bin/R CMD build --keep-empty-dirs --no-resave-data profileScoreDist StartedAt: 2025-10-03 02:17:56 -0000 (Fri, 03 Oct 2025) EndedAt: 2025-10-03 02:18:21 -0000 (Fri, 03 Oct 2025) EllapsedTime: 25.0 seconds RetCode: 0 Status: OK PackageFile: profileScoreDist_1.37.0.tar.gz PackageFileSize: 178.9 KiB