Package: profileScoreDist Version: 1.37.0 Command: chmod a+r profileScoreDist -R && F:\biocbuild\bbs-3.22-bioc\R\bin\R.exe CMD build --keep-empty-dirs --no-resave-data profileScoreDist StartedAt: 2025-08-14 22:27:57 -0400 (Thu, 14 Aug 2025) EndedAt: 2025-08-14 22:28:30 -0400 (Thu, 14 Aug 2025) EllapsedTime: 33.5 seconds RetCode: 0 Status: OK PackageFile: profileScoreDist_1.37.0.tar.gz PackageFileSize: 188.1 KiB