Package: profileScoreDist Version: 1.37.0 Command: rm -rf profileScoreDist.buildbin-libdir && mkdir profileScoreDist.buildbin-libdir && F:\biocbuild\bbs-3.22-bioc\R\bin\R.exe CMD INSTALL --build --library=profileScoreDist.buildbin-libdir profileScoreDist_1.37.0.tar.gz StartedAt: 2025-08-15 10:59:56 -0400 (Fri, 15 Aug 2025) EndedAt: 2025-08-15 11:02:31 -0400 (Fri, 15 Aug 2025) EllapsedTime: 155.1 seconds RetCode: 0 Status: OK PackageFile: profileScoreDist_1.37.0.zip PackageFileSize: 680 KiB