Package: profileScoreDist Version: 1.37.0 Command: /home/biocbuild/bbs-3.22-bioc/R/bin/R CMD INSTALL profileScoreDist StartedAt: 2025-10-03 15:10:57 -0400 (Fri, 03 Oct 2025) EndedAt: 2025-10-03 15:11:08 -0400 (Fri, 03 Oct 2025) EllapsedTime: 11.3 seconds RetCode: 0 Status: OK