Package: profileScoreDist Version: 1.37.0 Command: /home/biocbuild/bbs-3.22-bioc/R/bin/R CMD check --install=check:profileScoreDist.install-out.txt --library=/home/biocbuild/bbs-3.22-bioc/R/site-library --timings profileScoreDist_1.37.0.tar.gz StartedAt: 2025-10-04 03:02:36 -0400 (Sat, 04 Oct 2025) EndedAt: 2025-10-04 03:03:05 -0400 (Sat, 04 Oct 2025) EllapsedTime: 29.1 seconds RetCode: 0 Status: OK CheckDir: profileScoreDist.Rcheck Warnings: 0