Package: profileScoreDist Version: 1.39.0 Command: /home/biocbuild/bbs-3.23-bioc/R/bin/R CMD INSTALL profileScoreDist StartedAt: 2025-10-31 15:19:50 -0400 (Fri, 31 Oct 2025) EndedAt: 2025-10-31 15:20:01 -0400 (Fri, 31 Oct 2025) EllapsedTime: 10.8 seconds RetCode: 0 Status: OK