Package: profileScoreDist Version: 1.39.0 Command: /home/biocbuild/bbs-3.23-bioc/R/bin/R CMD check --install=check:profileScoreDist.install-out.txt --library=/home/biocbuild/bbs-3.23-bioc/R/site-library --timings profileScoreDist_1.39.0.tar.gz StartedAt: 2025-11-06 02:45:16 -0500 (Thu, 06 Nov 2025) EndedAt: 2025-11-06 02:45:46 -0500 (Thu, 06 Nov 2025) EllapsedTime: 30.1 seconds RetCode: 0 Status: OK CheckDir: profileScoreDist.Rcheck Warnings: 0