Package: profileScoreDist Version: 1.37.0 Command: /Library/Frameworks/R.framework/Resources/bin/R CMD INSTALL profileScoreDist StartedAt: 2025-10-03 15:13:21 -0400 (Fri, 03 Oct 2025) EndedAt: 2025-10-03 15:13:33 -0400 (Fri, 03 Oct 2025) EllapsedTime: 11.9 seconds RetCode: 0 Status: OK