Package: profileScoreDist Version: 1.37.0 Command: /Library/Frameworks/R.framework/Resources/bin/R CMD build --keep-empty-dirs --no-resave-data profileScoreDist StartedAt: 2025-10-03 18:32:25 -0400 (Fri, 03 Oct 2025) EndedAt: 2025-10-03 18:32:49 -0400 (Fri, 03 Oct 2025) EllapsedTime: 24.0 seconds RetCode: 0 Status: OK PackageFile: profileScoreDist_1.37.0.tar.gz PackageFileSize: 187.5 KiB