Package: profileScoreDist Version: 1.37.0 Command: rm -rf profileScoreDist.buildbin-libdir && mkdir profileScoreDist.buildbin-libdir && /Users/biocbuild/BBS/utils/build-universal.sh profileScoreDist_1.37.0.tar.gz /Library/Frameworks/R.framework/Resources/bin/R profileScoreDist.buildbin-libdir StartedAt: 2025-10-04 02:22:07 -0400 (Sat, 04 Oct 2025) EndedAt: 2025-10-04 02:22:24 -0400 (Sat, 04 Oct 2025) EllapsedTime: 17.2 seconds RetCode: 0 Status: OK PackageFile: profileScoreDist_1.37.0.tgz PackageFileSize: 355.8 KiB