Package: profileScoreDist Version: 1.37.0 Maintainer: Paal O. Westermark MaintainerEmail: pal-olof.westermark at charite.de git_url: https://git.bioconductor.org/packages/profileScoreDist git_branch: devel git_last_commit: 787df8f git_last_commit_date: 2025-04-15 10:57:01 -0400 (Tue, 15 Apr 2025)